BEGIN:VCALENDAR
VERSION:2.0
PRODID:-//eventon.com NONSGML v1.0//EN
CALSCALE:GREGORIAN
METHOD:PUBLISH
BEGIN:VEVENT
UID:69e73c561b0f7
DTSTAMP:20260421T085902Z
DTSTART:20250831T153000Z
DTEND:20250831T215900Z
LOCATION:Stiftskirche Bad Gandersheim Stiftsfreiheit 1\,  37581 Bad Gandersheim
SUMMARY:G.F. Händel - "Der Messias"
DESCRIPTION:Abschlusskonzert Concerto vocale Niedersachsen / Göttinger Bar
 ockorchester Veronika Winter\,  SopranBeat Duddeck\,  AltusGeorg Poplutz\, 
  TenorKlaus Mertens\,  Bass Künstlerische Leitung: Martin Heubach\nhttps:/
 /goettinger-barockorchester.de/events/g-f-haendel-der-messias/
URL:https://goettinger-barockorchester.de/events/g-f-haendel-der-messias/
END:VEVENT
END:VCALENDAR